BEGIN:VCALENDAR
VERSION:2.0
PRODID:icalendar-ruby
CALSCALE:GREGORIAN
METHOD:PUBLISH
BEGIN:VEVENT
DTSTAMP:20260421T203341Z
UID:651-1523169@ottawacathedral.ca
DTSTART;VALUE=DATE:20260728
DTEND;VALUE=DATE:20260728
CLASS:PUBLIC
CREATED:20260421T162416
DESCRIPTION:This evening service in the Good Shepherd Chapel is a soft and 
 gentle way to end the day. Please access the Cathedral via the west Sparks
  Street steps. Come and enjoy!
LAST-MODIFIED:20260421T162416
LOCATION:Christ Church Cathedral
SUMMARY:Weekday Night Prayer
URL;VALUE=URI:https://www.ottawacathedral.ca/events/weekday-night-prayer/20
 26-07-28
ATTACH;FILENAME=Block Sunset 2.jpg;FMTTYPE=image/jpeg:https://dq5pwpg1q8ru0
 .cloudfront.net/2025/05/30/14/49/20/b0c5cafc-9b2b-4d1d-900b-cef0ec01c7df/B
 lock%20Sunset%202.jpg
END:VEVENT
END:VCALENDAR
